BEGIN:VCALENDAR
VERSION:2.0
PRODID:-//Ecole Saint Joseph - ECPv6.8.1//NONSGML v1.0//EN
CALSCALE:GREGORIAN
METHOD:PUBLISH
X-WR-CALNAME:Ecole Saint Joseph
X-ORIGINAL-URL:https://ecole-saint-joseph-44.fr
X-WR-CALDESC:Events for Ecole Saint Joseph
REFRESH-INTERVAL;VALUE=DURATION:PT1H
X-Robots-Tag:noindex
X-PUBLISHED-TTL:PT1H
BEGIN:VTIMEZONE
TZID:Europe/Paris
BEGIN:DAYLIGHT
TZOFFSETFROM:+0100
TZOFFSETTO:+0200
TZNAME:CEST
DTSTART:20240331T010000
END:DAYLIGHT
BEGIN:STANDARD
TZOFFSETFROM:+0200
TZOFFSETTO:+0100
TZNAME:CET
DTSTART:20241027T010000
END:STANDARD
BEGIN:DAYLIGHT
TZOFFSETFROM:+0100
TZOFFSETTO:+0200
TZNAME:CEST
DTSTART:20250330T010000
END:DAYLIGHT
BEGIN:STANDARD
TZOFFSETFROM:+0200
TZOFFSETTO:+0100
TZNAME:CET
DTSTART:20251026T010000
END:STANDARD
BEGIN:DAYLIGHT
TZOFFSETFROM:+0100
TZOFFSETTO:+0200
TZNAME:CEST
DTSTART:20260329T010000
END:DAYLIGHT
BEGIN:STANDARD
TZOFFSETFROM:+0200
TZOFFSETTO:+0100
TZNAME:CET
DTSTART:20261025T010000
END:STANDARD
END:VTIMEZONE
BEGIN:VEVENT
DTSTART;VALUE=DATE:20241213
DTEND;VALUE=DATE:20241214
DTSTAMP:20260422T041555
CREATED:20241106T144454Z
LAST-MODIFIED:20241106T144743Z
UID:2074-1734048000-1734134399@ecole-saint-joseph-44.fr
SUMMARY:Marché de Noël !
DESCRIPTION:Venez nombreux à notre fameux marché de Noël. Parents et enfants ont participé à la création de déco\, calendrier\, ou même gourmandises 😉
URL:https://ecole-saint-joseph-44.fr/calendrier/marche-de-noel/
CATEGORIES:Action APEL
END:VEVENT
BEGIN:VEVENT
DTSTART;TZID=Europe/Paris:20250329T093000
DTEND;TZID=Europe/Paris:20250329T120000
DTSTAMP:20260422T041555
CREATED:20241227T105257Z
LAST-MODIFIED:20250319T093841Z
UID:2274-1743240600-1743249600@ecole-saint-joseph-44.fr
SUMMARY:Carnaval
DESCRIPTION:Rendez-vous le 29 mars de 9h30 à 12h\, à l’espace Famille (8 rue du Prieuré) !\n– Atelier maquillage à partir de 9h30\n– Défilé à 10h30 avec la Batukatam\n– Animations (après le défilé) : bar\, confiseries et jeux en bois
URL:https://ecole-saint-joseph-44.fr/calendrier/carnaval/
CATEGORIES:Action APEL
ATTACH;FMTTYPE=image/jpeg:https://ecole-saint-joseph-44.fr/wp-content/uploads/2024/12/Affiche_Carnaval_CT_2025-scaled.jpg
END:VEVENT
BEGIN:VEVENT
DTSTART;VALUE=DATE:20250517
DTEND;VALUE=DATE:20250518
DTSTAMP:20260422T041555
CREATED:20241106T145322Z
LAST-MODIFIED:20250512T071550Z
UID:2085-1747440000-1747526399@ecole-saint-joseph-44.fr
SUMMARY:Marche Gourmande
DESCRIPTION:La Marche Gourmande revient dans le vignoble Castel Thébaldais pour sa 9ème édition. \n– Semi-nocture (départ entre 17h et 19h).\n– 3 parcours de 7km\, 10km et 14km (le 7km étant adapté pour les jeunes enfants\, et les familles (porte bébé)).\nInscription sur : \nhttps://www.billetweb.fr/marche-gourmande
URL:https://ecole-saint-joseph-44.fr/calendrier/marche-gourmande/
CATEGORIES:Action APEL
ATTACH;FMTTYPE=image/jpeg:https://ecole-saint-joseph-44.fr/wp-content/uploads/2024/11/unnamed-4-scaled.jpg
END:VEVENT
BEGIN:VEVENT
DTSTART;TZID=Europe/Paris:20251010T160000
DTEND;TZID=Europe/Paris:20251010T190000
DTSTAMP:20260422T041555
CREATED:20250914T224024Z
LAST-MODIFIED:20250914T224024Z
UID:2529-1760112000-1760122800@ecole-saint-joseph-44.fr
SUMMARY:Pressage du jus de pommes
DESCRIPTION:
URL:https://ecole-saint-joseph-44.fr/calendrier/pressage-du-jus-de-pommes/
CATEGORIES:Action APEL
END:VEVENT
BEGIN:VEVENT
DTSTART;TZID=Europe/Paris:20251126T090000
DTEND;TZID=Europe/Paris:20251126T160000
DTSTAMP:20260422T041555
CREATED:20250914T224220Z
LAST-MODIFIED:20250914T224220Z
UID:2533-1764147600-1764172800@ecole-saint-joseph-44.fr
SUMMARY:Gouter à 50 centimes
DESCRIPTION:
URL:https://ecole-saint-joseph-44.fr/calendrier/gouter-a-50-centimes-4/
CATEGORIES:Action APEL
END:VEVENT
BEGIN:VEVENT
DTSTART;TZID=Europe/Paris:20251203T090000
DTEND;TZID=Europe/Paris:20251203T160000
DTSTAMP:20260422T041555
CREATED:20250914T224334Z
LAST-MODIFIED:20250914T224334Z
UID:2535-1764752400-1764777600@ecole-saint-joseph-44.fr
SUMMARY:Gouter à 50 centimes
DESCRIPTION:
URL:https://ecole-saint-joseph-44.fr/calendrier/gouter-a-50-centimes-5/
CATEGORIES:Action APEL
END:VEVENT
BEGIN:VEVENT
DTSTART;TZID=Europe/Paris:20251210T090000
DTEND;TZID=Europe/Paris:20251210T160000
DTSTAMP:20260422T041555
CREATED:20250914T224437Z
LAST-MODIFIED:20250914T224445Z
UID:2537-1765357200-1765382400@ecole-saint-joseph-44.fr
SUMMARY:Gouter à 50 centimes
DESCRIPTION:
URL:https://ecole-saint-joseph-44.fr/calendrier/gouter-a-50-centimes-6/
CATEGORIES:Action APEL
END:VEVENT
BEGIN:VEVENT
DTSTART;TZID=Europe/Paris:20251212T163000
DTEND;TZID=Europe/Paris:20251212T210000
DTSTAMP:20260422T041555
CREATED:20250914T224806Z
LAST-MODIFIED:20250914T224806Z
UID:2543-1765557000-1765573200@ecole-saint-joseph-44.fr
SUMMARY:Marché de Noël
DESCRIPTION:
URL:https://ecole-saint-joseph-44.fr/calendrier/marche-de-noel-2/
CATEGORIES:Action APEL
END:VEVENT
BEGIN:VEVENT
DTSTART;TZID=Europe/Paris:20260328T093000
DTEND;TZID=Europe/Paris:20260328T120000
DTSTAMP:20260422T041555
CREATED:20260209T194907Z
LAST-MODIFIED:20260209T194925Z
UID:2596-1774690200-1774699200@ecole-saint-joseph-44.fr
SUMMARY:Carnaval de l'école
DESCRIPTION:Chers parents\,  \nCette année encore les associations de parents d’élèves de Saint-Jo et Marcel Canonnet s’associent au Pôle Enfance pour organiser le Carnaval des enfants.  \n🎭 L’édition 2026 aura pour thème : “Les arts de rue”\net se tiendra au Pôle enfance de Château-Thébaud (périscolaire)\n🗓️ le Samedi 28 mars 2026 à partir de 9h30 – Défilé à 10h30. \nMaquillage\, animations\, jeux en bois… De belles surprises attendent les enfants. \nPetits et grands\, venez déguisés et pensez à apporter vos flacons à faire des bulles.\nN’hésitez pas également à confectionner de petits bâtons avec des rubans/tissus colorés pour égailler le défilé.  \nEt comme le thème c’est « les Arts de rue »\, que vous sachiez jongler\, dribler\, jouer d’un instrument de musique… venez avec vos accessoires et talents.
URL:https://ecole-saint-joseph-44.fr/calendrier/carnaval-de-lecole/
CATEGORIES:Action APEL
ATTACH;FMTTYPE=image/jpeg:https://ecole-saint-joseph-44.fr/wp-content/uploads/2026/02/Affiche-Carnaval-CT-2026-e1770710229760.jpg
END:VEVENT
BEGIN:VEVENT
DTSTART;TZID=Europe/Paris:20260530T080000
DTEND;TZID=Europe/Paris:20260530T170000
DTSTAMP:20260422T041555
CREATED:20250914T225252Z
LAST-MODIFIED:20250914T225252Z
UID:2551-1780128000-1780160400@ecole-saint-joseph-44.fr
SUMMARY:Marche Gourmande
DESCRIPTION:
URL:https://ecole-saint-joseph-44.fr/calendrier/marche-gourmande-2/
CATEGORIES:Action APEL
END:VEVENT
END:VCALENDAR